BEGIN:VCALENDAR
VERSION:2.0
PRODID:-//Stone Eagle Beer Garden - ECPv4.6.19//NONSGML v1.0//EN
CALSCALE:GREGORIAN
METHOD:PUBLISH
X-WR-CALNAME:Stone Eagle Beer Garden
X-ORIGINAL-URL:https://stoneeaglebeergarden.com
X-WR-CALDESC:Events for Stone Eagle Beer Garden
BEGIN:VEVENT
DTSTART;VALUE=DATE:20260319
DTEND;VALUE=DATE:20260320
DTSTAMP:20260420T120615
CREATED:20260204T030351Z
LAST-MODIFIED:20260317T211348Z
UID:2780-1773878400-1773964799@stoneeaglebeergarden.com
SUMMARY:Private Event~ Closed 5:00 to 9:00
DESCRIPTION:We hope to see you tomorrow. We open at 5:00pm \n
URL:https://stoneeaglebeergarden.com/event/private-event-closed/
END:VEVENT
END:VCALENDAR