BEGIN:VCALENDAR
VERSION:2.0
PRODID:-//Stone Eagle Beer Garden - ECPv4.6.19//NONSGML v1.0//EN
CALSCALE:GREGORIAN
METHOD:PUBLISH
X-WR-CALNAME:Stone Eagle Beer Garden
X-ORIGINAL-URL:https://stoneeaglebeergarden.com
X-WR-CALDESC:Events for Stone Eagle Beer Garden
BEGIN:VEVENT
DTSTART;TZID=UTC+0:20260221T203000
DTEND;TZID=UTC+0:20260221T203000
DTSTAMP:20260419T200151
CREATED:20260121T071035Z
LAST-MODIFIED:20260121T071035Z
UID:2752-1771705800-1771705800@stoneeaglebeergarden.com
SUMMARY:The Lonesome Fugitive ~ Michael Gilliam
DESCRIPTION:
URL:https://stoneeaglebeergarden.com/event/the-lonesome-fugitive-michael-gilliam-3/
END:VEVENT
END:VCALENDAR