BEGIN:VCALENDAR
VERSION:2.0
PRODID:-//Stone Eagle Beer Garden - ECPv4.6.19//NONSGML v1.0//EN
CALSCALE:GREGORIAN
METHOD:PUBLISH
X-WR-CALNAME:Stone Eagle Beer Garden
X-ORIGINAL-URL:https://stoneeaglebeergarden.com
X-WR-CALDESC:Events for Stone Eagle Beer Garden
BEGIN:VEVENT
DTSTART;TZID=UTC+0:20260306T203000
DTEND;TZID=UTC+0:20260306T203000
DTSTAMP:20260420T041340
CREATED:20260204T025308Z
LAST-MODIFIED:20260204T025308Z
UID:2768-1772829000-1772829000@stoneeaglebeergarden.com
SUMMARY:The Strange Whiskey Project~ Jukebox Duo
DESCRIPTION:
URL:https://stoneeaglebeergarden.com/event/the-strange-whiskey-project-jukebox-duo-2/
END:VEVENT
END:VCALENDAR