BEGIN:VCALENDAR
VERSION:2.0
PRODID:-//Stone Eagle Beer Garden - ECPv4.6.19//NONSGML v1.0//EN
CALSCALE:GREGORIAN
METHOD:PUBLISH
X-WR-CALNAME:Stone Eagle Beer Garden
X-ORIGINAL-URL:https://stoneeaglebeergarden.com
X-WR-CALDESC:Events for Stone Eagle Beer Garden
BEGIN:VEVENT
DTSTART;TZID=UTC+0:20260314T203000
DTEND;TZID=UTC+0:20260314T203000
DTSTAMP:20260420T102651
CREATED:20260204T030225Z
LAST-MODIFIED:20260204T030225Z
UID:2778-1773520200-1773520200@stoneeaglebeergarden.com
SUMMARY:Todd Freeman and the Bullet Proof Band
DESCRIPTION:$10.00 Cover Charge \n
URL:https://stoneeaglebeergarden.com/event/todd-freeman-and-the-bullet-proof-band-2/
END:VEVENT
END:VCALENDAR